BEGIN:VCALENDAR
VERSION:2.0
PRODID:-//GZV Wunstorf//NONSGML kigkonsult.se iCalcreator 2.41.92//
CALSCALE:GREGORIAN
METHOD:PUBLISH
UID:39303232-3734-4732-b164-386230646631
X-WR-CALNAME:iCagenda
X-WR-CALDESC:Event Management Extension for Joomla!
X-WR-RELCALID:3E26604A-50F4-4449-8B3E-E4F4932D05B5
X-WR-TIMEZONE:UTC
BEGIN:VTIMEZONE
TZID:UTC
END:VTIMEZONE
BEGIN:VEVENT
UID:36396535-3538-4439-a434-643261393039
DTSTAMP:20260421T144928Z
CATEGORIES:Ausstellung
CLASS:PUBLIC
DESCRIPTION:
DTSTART:20260926T000000Z
DTEND:20260926T235900Z
GEO:+52.48024;+9.451886
LOCATION:Poggenhagen
ORGANIZER:
SEQUENCE:1
SUMMARY:Ausstellung 2026
TRANSP:OPAQUE
URL:https://www.gzv-wunstorf.de/index.php/veranstaltungen/1-ausstellung-202
 6/2026-09-26-00-00
END:VEVENT
END:VCALENDAR
