BEGIN:VCALENDAR
VERSION:2.0
PRODID:-//GZV Wunstorf//NONSGML kigkonsult.se iCalcreator 2.41.92//
CALSCALE:GREGORIAN
METHOD:PUBLISH
UID:38663931-6665-4338-b761-656366343439
X-WR-CALNAME:iCagenda
X-WR-CALDESC:Event Management Extension for Joomla!
X-WR-RELCALID:3E26604A-50F4-4449-8B3E-E4F4932D05B5
X-WR-TIMEZONE:UTC
BEGIN:VTIMEZONE
TZID:UTC
END:VTIMEZONE
BEGIN:VEVENT
UID:34623863-6439-4261-b236-333733366436
DTSTAMP:20260421T160403Z
CATEGORIES:Ausstellung
CLASS:PUBLIC
DESCRIPTION:
DTSTART:20260927T000000Z
DTEND:20260927T235900Z
GEO:+52.48024;+9.451886
LOCATION:Poggenhagen
ORGANIZER:
SEQUENCE:1
SUMMARY:Ausstellung 2026
TRANSP:OPAQUE
URL:https://www.gzv-wunstorf.de/index.php/veranstaltungen/1-ausstellung-202
 6/2026-09-27-00-00
END:VEVENT
END:VCALENDAR
