BEGIN:VCALENDAR
VERSION:2.0
PRODID:-//GZV Wunstorf//NONSGML kigkonsult.se iCalcreator 2.41.92//
CALSCALE:GREGORIAN
METHOD:PUBLISH
UID:32616635-6262-4139-b861-643031353631
X-WR-CALNAME:iCagenda
X-WR-CALDESC:Event Management Extension for Joomla!
X-WR-RELCALID:3E26604A-50F4-4449-8B3E-E4F4932D05B5
X-WR-TIMEZONE:UTC
BEGIN:VTIMEZONE
TZID:UTC
END:VTIMEZONE
BEGIN:VEVENT
UID:64623162-3631-4637-a566-373732346534
DTSTAMP:20260421T151026Z
CATEGORIES:Sonstiges
CLASS:PUBLIC
DESCRIPTION:
DTSTART:20261127T190000Z
DTEND:20261127T210000Z
GEO:+52.416515;+9.447039
LOCATION:Gasthaus Wehrmann-Blume\, Kolenfelder Str. 86\, 31515 Wunstorf
ORGANIZER:
SEQUENCE:1
SUMMARY:Grünkohlessen
TRANSP:OPAQUE
URL:https://www.gzv-wunstorf.de/index.php/veranstaltungen/3-gruenkohlessen/
 2026-11-27-19-00
END:VEVENT
END:VCALENDAR
