BEGIN:VCALENDAR
VERSION:2.0
PRODID:-//GZV Wunstorf//NONSGML kigkonsult.se iCalcreator 2.41.92//
CALSCALE:GREGORIAN
METHOD:PUBLISH
UID:61636636-3966-4062-a433-316663633737
X-WR-CALNAME:iCagenda
X-WR-CALDESC:Event Management Extension for Joomla!
X-WR-RELCALID:3E26604A-50F4-4449-8B3E-E4F4932D05B5
X-WR-TIMEZONE:UTC
BEGIN:VTIMEZONE
TZID:UTC
END:VTIMEZONE
BEGIN:VEVENT
UID:66613636-3566-4135-a263-393137626631
DTSTAMP:20260421T144746Z
CATEGORIES:Sonstiges
CLASS:PUBLIC
DESCRIPTION:
DTSTART:20260531T100000Z
DTEND:20260531T140000Z
GEO:+52.371586;+9.340905
LOCATION:Familie Hasse Rehren
ORGANIZER:
SEQUENCE:1
SUMMARY:Gemeinsames Wettkrähen
TRANSP:OPAQUE
URL:https://www.gzv-wunstorf.de/index.php/veranstaltungen/4-gemeinsames-wet
 tkraehen/2026-05-31-10-00
END:VEVENT
END:VCALENDAR
