BEGIN:VCALENDAR
VERSION:2.0
PRODID:-//GZV Wunstorf//NONSGML kigkonsult.se iCalcreator 2.41.92//
CALSCALE:GREGORIAN
METHOD:PUBLISH
UID:64626262-3737-4130-b039-313965353034
X-WR-CALNAME:iCagenda
X-WR-CALDESC:Event Management Extension for Joomla!
X-WR-RELCALID:3E26604A-50F4-4449-8B3E-E4F4932D05B5
X-WR-TIMEZONE:UTC
BEGIN:VTIMEZONE
TZID:UTC
END:VTIMEZONE
BEGIN:VEVENT
UID:65373462-6563-4665-a136-333165353861
DTSTAMP:20260421T160137Z
CATEGORIES:Versammlung
CLASS:PUBLIC
DESCRIPTION:
DTSTART:20260703T190000Z
DTEND:20260703T190000Z
GEO:+52.416515;+9.447039
LOCATION:Vereinslokal Wehrmann-Blume
ORGANIZER:
SEQUENCE:1
SUMMARY:Monatsversammlung
TRANSP:OPAQUE
URL:https://www.gzv-wunstorf.de/index.php/veranstaltungen/6-monatsversammlu
 ng/2026-07-03-19-00
END:VEVENT
END:VCALENDAR
