BEGIN:VCALENDAR
VERSION:2.0
PRODID:-//GZV Wunstorf//NONSGML kigkonsult.se iCalcreator 2.41.92//
CALSCALE:GREGORIAN
METHOD:PUBLISH
UID:30383662-6666-4432-b932-643061373135
X-WR-CALNAME:iCagenda
X-WR-CALDESC:Event Management Extension for Joomla!
X-WR-RELCALID:3E26604A-50F4-4449-8B3E-E4F4932D05B5
X-WR-TIMEZONE:UTC
BEGIN:VTIMEZONE
TZID:UTC
END:VTIMEZONE
BEGIN:VEVENT
UID:66383538-3536-4062-b034-656166653962
DTSTAMP:20260421T150343Z
CATEGORIES:Stammtisch
CLASS:PUBLIC
DESCRIPTION:
DTSTART:20260807T190000Z
DTEND:20260807T210000Z
GEO:+52.416073;+9.44719
LOCATION:Vereinslokal Wehrmann-Blume
ORGANIZER:
SEQUENCE:1
SUMMARY:Stammtisch
TRANSP:OPAQUE
URL:https://www.gzv-wunstorf.de/index.php/veranstaltungen/7-stammtisch/2026
 -08-07-19-00
END:VEVENT
END:VCALENDAR
